BEGIN:VCALENDAR
PRODID:-//www.nbasw-atsnb.ca//EN
VERSION:2.0
METHOD:PUBLISH
BEGIN:VEVENT
DTSTART;TZID=America/Halifax:20191114T090000
DTEND;TZID=America/Halifax:20191114T090000
URL:https://www.nbasw-atsnb.ca/nouvelles/evenements-a-venir/ruminatin-focused-cognitive-behavioural-therapy-fr-ca/
SUMMARY:Ruminating Focused Cognitive Behavioural Therapy
LOCATION:101 Centrepointe Drive, Ottawa, ON
DESCRIPTION:Veuillez noter que cette information est seulement disponible en anglais.
END:VEVENT
END:VCALENDAR