BEGIN:VCALENDAR
PRODID:-//www.nbasw-atsnb.ca//EN
VERSION:2.0
METHOD:PUBLISH
BEGIN:VEVENT
DTSTART;TZID=America/Halifax:20191123T
DTEND;TZID=America/Halifax:20191124T
URL:https://www.nbasw-atsnb.ca/news-and-events/continuing-education/post-traumatic-stress-disorder-unified-cbt-approach-2/
SUMMARY:Post-Traumatic Stress Disorder: Unified CBT Approach
LOCATION:
DESCRIPTION:Registration Fee: $465+HST; Student Rate/CMHA STaff: $360+HST (Note: Students and CMHA Staff must send proof of being a student to admin@ixtmind.com.
END:VEVENT
END:VCALENDAR